BEGIN:VCALENDAR
VERSION:2.0
PRODID:-//Sabre//Sabre VObject 4.5.8//EN
CALSCALE:GREGORIAN
BEGIN:VEVENT
UID:sabre-vobject-48464d42-a775-42af-9fb5-465d2301018f
DTSTAMP:20260424T111626Z
SUMMARY:Tanz Mal @ Barfuss Brauerei
DESCRIPTION:Die Brewery verwandelt sich in einen Treffpunkt für alle\, die
  gute Musik\, entspannte Stimmung und genussvolle Momente lieben.\\n\\nCoo
 le Beats\, die durch den Nachmittag und Abend begleiten\, dazu frisch geza
 pftes Bier\, kreative Cocktails an der Bar und leckere Grillspezialitäten
 . Egal ob mit Freunden oder neue Leute kennenlernen – dieser Event biete
 t die Kombination aus Musik\, Genuss und guter Atmosphäre.
LOCATION:Barfuss Brauerei\, Industriestrasse 13\, 8575 Bürglen TG
DTSTART;TZID=Europe/Zurich:20260502T140000
DTEND;TZID=Europe/Zurich:20260502T220000
ORGANIZER:Barfuss Brauerei GmbH
END:VEVENT
END:VCALENDAR
