BEGIN:VCALENDAR
VERSION:2.0
PRODID:-//Sabre//Sabre VObject 4.5.8//EN
CALSCALE:GREGORIAN
BEGIN:VEVENT
UID:sabre-vobject-1eaba940-326d-42ad-8dee-ad7352b40979
DTSTAMP:20260424T111723Z
SUMMARY:Auf Frauenspuren
DESCRIPTION:Der Rundgang beginnt am Rathausbrunnen. Die Statue\, die den Br
 unnen schmückt\, zeigt eine unbekannte Frau und zwei Knaben\, deren Namen
  wir nicht kennen. Dieses Beispiel zeigt\, dass man zwar Frauen als Monume
 nte auf den Sockel stellt\, und sie aber gleichzeitig ihres eigenen Namens
  beraubt.\\n\\nAuf dem Rundgang erfahren die Teilnehmenden mehr über das 
 Leben und Wirken namenlos gebliebener Frauen\, die sich für Ihre Familien
 \, ihren Beruf und das Gemeinwesen eingesetzt haben. 
LOCATION:Rathausplatz\, 8570 Weinfelden
DTSTART;TZID=Europe/Zurich:20260608T183000
DTEND;TZID=Europe/Zurich:20260608T183000
ORGANIZER:Stadt Weinfelden
END:VEVENT
END:VCALENDAR
