BEGIN:VCALENDAR
VERSION:2.0
PRODID:-//Sabre//Sabre VObject 4.5.8//EN
CALSCALE:GREGORIAN
BEGIN:VEVENT
UID:sabre-vobject-cd6537aa-e400-4c2e-a646-cb99e8652ce7
DTSTAMP:20260424T111054Z
SUMMARY:Michael von der Heide
DESCRIPTION:Michael von der Heide hat mit Hildegard Knef\, dieser unvergess
 lichen Sängerin\, Chansontexterin\, Schauspielerin und Buchautorin\, den 
 schalkhaften\, messerscharfen Geist und die Sprach- und Schlagfertigkeit g
 emeinsam. Beide wissen\, was sie singen und singen\, was sie wissen. Kein 
 Wunder\, liebt Michael von der Heide schon seit langem die brillanten\, bi
 ssigen Texte der Knef und interpretierte seit Beginn seiner Karriere immer
  wieder Lieder von ihr. \\n\\nAm 28. Dezember 2025 wäre Hildegard Knef 10
 0 Jahre alt geworden. Anlässlich dieses Jubiläums widmet Michael von der
  Heide seit September der einzigen deutschsprachigen Chansonnière von Wel
 tformat\, die über 300 eigene Texte verfasst hat\, sein neues Konzertprog
 ramm «von der Heide singt Knef». Mit dem Ziel\, auf seiner Tournee die z
 eitlosen Lieder von Hildegard Knef\, die auch nach Jahrzehnten noch frisch
  wirken und deren Inhalte heute immer noch Gültigkeit haben\, weiterhin u
 nter die Menschen zu bringen. Hildegard Knef betrachtete in ihren doppelb
 ödigen Texten das Leben gescheit\, ehrlich\, lakonisch\, (selbst)ironisch
 \, unsentimental und trotz aller Tragik und Melancholie lebensbejahend\, h
 umorvoll und ohne erhobenen Zeigefinger. Die ganze Achterbahn des Lebens\,
  verpackt in federleichte Lieder mit unvergesslichen Zeilen wie «Das Glü
 ck kennt nur Minuten – der Rest ist Warteraum.». \\n\\nIm Programm werd
 en sowohl berühmte Knef-Songs wie «Tapetenwechsel» und «Für Mich Soll
 ’s Rote Rosen Regnen» als auch jazzige Trouvaillen\, die der französis
 che Autor und Musiker Boris Vian für Knef schrieb\, ihren Platz finden. Z
 udem bettet Michael von der Heide dramaturgisch und biografisch passend ei
 n paar seiner eigenen Lieder ins Programm ein. Begleitet wird Michael von 
 der Heide von seiner virtuosen\, bestens eingespielten Band (Piano: David 
 Cogliatti\, Gitarre: Martin Buess\, Bass: André Pousaz\, Drums: Beni Bür
 gin)\, mit der zum neuen Programm auch ein neues Album geplant ist. «von 
 der Heide singt Knef» ist ein zugleich humorvoller und tiefgründiger Kon
 zert-Abend\, an dem es fürs Publikum für einmal nicht nur Gold\, sondern
  auch rote Rosen regnen wird.
LOCATION:Kulturzentrum Presswerk\, Hamelstrasse 15\, 9320 Arbon
DTSTART;TZID=Europe/Zurich:20270423T200000
DTEND;TZID=Europe/Zurich:20270423T200000
ORGANIZER:Ticketcorner
END:VEVENT
END:VCALENDAR
