BEGIN:VCALENDAR
VERSION:2.0
PRODID:-//Sabre//Sabre VObject 4.5.8//EN
CALSCALE:GREGORIAN
BEGIN:VEVENT
UID:sabre-vobject-4c0fc56c-1366-4213-b6bc-56bbe4bd51ed
DTSTAMP:20260423T221908Z
SUMMARY:Flora 2027
DESCRIPTION:Garten-Ausstellung des Fachverbands Jardin Suisse.\\n• Showg
 ärten auf dem Marktplatz\\n• Planzen-Markt\\n• Regionalausscheidung d
 er Gärtner-Lernenden\\n• Rahmenprogramm mit Vorträgen\, Workshops\, F
 ührungen\, etc.
LOCATION:Marktplatz Weinfelden\, Marktplatz 5\, 8570 Weinfelden
DTSTART;TZID=Europe/Zurich:20270415T000000
DTEND;TZID=Europe/Zurich:20270415T000000
ORGANIZER:Stadt  Weinfelden
END:VEVENT
END:VCALENDAR
