BEGIN:VCALENDAR
VERSION:2.0
PRODID:-//Sabre//Sabre VObject 4.5.8//EN
CALSCALE:GREGORIAN
BEGIN:VEVENT
UID:sabre-vobject-6231e65f-2e62-4498-b18a-6dc33e31929b
DTSTAMP:20260423T215635Z
SUMMARY:Rollenwandel: Schiff der Träume
DESCRIPTION:Regie Annika Schäfer Bühne &amp\; Kostüme Tom Schellmann\\nD
 ramaturgie Hauke Pockrandt\\nMit Michaela Allendorf\, Anna Lisa Grebe\, Ul
 rich Hoppe\, Odo Jergitsch\, Leonard Meschter\, Jonas Pätzold\nWehklagen 
 und Verzweiflung erklingen im Hafen von Neapel und durchschneiden die von 
 Geschäftigkeit\, Möwengeschrei\, vom Kommen und Gehen\, Lachen und Strei
 ten erfüllte Szenerie. Die Quelle der Störung ist ebenso wenig zu übers
 ehen\, wie zu überhören: Im Minutentakt halten Limousinen am Landungsste
 g des Ozeandampfers Gloria N und allmählich versammelt sich eine ungeheur
 e Prominenz.\nDort reicht der Intendant der Wiener Oper dem weltberühmten
  Maestro Albertini die Hand\, weiter hinten ergießt sich die große Sopra
 nistin Cuffari in ein markerschütterndes Lamento. Die versammelte Gemeins
 chaft trägt Trauer\, doch statt stiller Andacht gleicht das Bild einem Sp
 ektakel. Blitzlichtgewitter\, an Geschmacklosigkeit grenzende Extravaganz 
 – kein Zweifel\, hier wird nicht der Verlust eines gewöhnlichen Mensche
 n beklagt! Weggefährt:innen\, Neider:innen\, Liebhaber:innen\, die eingeb
 ildete Elite aus Kunst\, Adel\, Geld und Politik – alle sind gekommen\, 
 um der unsterblichen Operndiva Edmea Tetua das letzte Geleit zu geben und 
 ihre Asche im Meer zu verstreuen.\nEtwas abseits des Geschehens winkt der 
 Journalist Orlando\, der uns als Chronist mit an Bord der Gloria N nimmt u
 nd in die Trauergemeinschaft einführt. Welche Lücke hinterlässt die gr
 ößte Diva aller Zeiten bei diesen Menschen\, die immerzu auf die eigene 
 Inszenierung\, die performative Vermarktung einer echten oder rentablen Ge
 fühlsregung bedacht sind\, bei denen selbst Trauer zum Wettstreit wird? A
 ls wäre die Unterscheidung von Sein und Schein nicht schwer genug\, drän
 gen sich im Verlauf der grotesken Trauerfahrt immer mehr Träume in den Vo
 rdergrund und auch die unsterbliche Edmea Tetua verlangt nach ihrem große
 n Auftritt im Rampenlicht.\n„Das Schiff der Träume“ nach dem Drehbuch
  von Federico Fellini wurde als Theaterstoff in einem für die Theaterland
 schaft einzigartigen partizipativen Prozess ausgewählt. Unter dem Namen 
 „Rollenwandel“ haben sich abteilungsübergreifend Mitarbeiter:iinnen d
 es Theaters Konstanz zusammengeschlossen und als Kollektiv den Theaterstof
 f\, die Regie und die Position für das Bühnen- und Kostümbild kuratiert
 . Unter „Rollenwandel“ versteht sich der Versuch\, traditionell hierar
 chisch geprägte Strukturen des Theaterbetriebs aufzubrechen und in einem 
 pluralen\, demokratischen und nachhaltigen Veränderungsprozess weiterzuen
 twickeln.\nDie für die Regie ausgewählte Regisseurin Annika Schäfer\, d
 er Bühnen- und Kostümbildner Tom Schellmann und das Rollenwandel-Ensembl
 e nehmen Fellinis Filmklassiker als Folie für eine opulente Traum- und Tr
 auerreise\, in der Sehnsüchte\, die Liebe zur Kunst und Musik\, aber auch
  die Opfer\, die das Künstler*innen-Leben erfordert\, lustvoll-spielerisc
 h und mit viel Musik erkundet werden.
LOCATION:Spiegelhalle\, Hafenstrasse 12\, 78462 Konstanz
DTSTART;TZID=Europe/Zurich:20260624T200000
DTEND;TZID=Europe/Zurich:20260624T200000
ORGANIZER:Theater Konstanz
END:VEVENT
END:VCALENDAR
