BEGIN:VCALENDAR
VERSION:2.0
PRODID:-//Sabre//Sabre VObject 4.5.8//EN
CALSCALE:GREGORIAN
BEGIN:VEVENT
UID:sabre-vobject-7f845cad-d18d-4399-93b7-fe60de459ded
DTSTAMP:20260423T215636Z
SUMMARY:Absurdes Glück - Bittersüsse Geschichten
DESCRIPTION:Literarische Texte\, gelesen von Bruno Schüepp\, begleitet von
  stimmungsvoller Musik von Manuel Böbel.\\nIm Anschluss wird ein kleiner 
 Apéro serviert.
LOCATION:Bibliothek Eschlikon\, Ifangstrasse 24\, 8360 Eschlikon
DTSTART;TZID=Europe/Zurich:20260528T193000
DTEND;TZID=Europe/Zurich:20260528T193000
ORGANIZER:Bibliothek Eschlikon
END:VEVENT
END:VCALENDAR
