BEGIN:VCALENDAR
VERSION:2.0
PRODID:-//Sabre//Sabre VObject 4.5.8//EN
CALSCALE:GREGORIAN
BEGIN:VEVENT
UID:sabre-vobject-4e1c9310-640e-4da4-8029-0d911dc1b6b1
DTSTAMP:20260423T220104Z
SUMMARY:Rosgarten*Lounge – Afterwork & Kulturgenuss
DESCRIPTION:Das Rosgartenmuseum lädt mit lokalen Kooperationspartnern im R
 ahmen der „Aktionswoche Barrierefrei“ zur stimmungsvollen Rosgarten*Lo
 unge mit After Work &amp\; Kulturgenuss ein. Die Gäste können in entspan
 nter Atmosphäre einen Cocktail genießen und die Anstrengungen der Woche 
 hinter sich lassen.\nUnter dem Motto „Vielfalt verbindet – Impulse fü
 r Inklusion“ wird das Museum zu einem Ort der Begegnung\, an dem Barrier
 en abgebaut und Perspektiven auf unser Miteinander eröffnet werden. In dr
 ei Kulturimpulsen wird das Thema Barrierefreiheit auf unterschiedliche Wei
 se aufgegriffen – in authentischen Berichten erzählen uns Roland Benker
  und Manuela Pruss über ihre Herausforderungen\, wenn im Rollstuhl oder a
 ls blinde Person den Alltag meistert. Im dritten Impuls wird Comedian Kai 
 Bosch einen Ausschnitt aus seinem Programm zeigen. \nDas Museumscafé lä
 dt mit Drinks zum Verweilen ein\, während das Rosgartenmuseum mit einer A
 bendöffnung zum Schlendern durch das Haus geöffnet ist – eine ideale G
 elegenheit\, Gemeinschaft\, Kultur und Geschichte zu verbinden. \nBei seh
 r großem Besucher:innenandrang gibt es Zählkarten für den Auftritt von 
 Kai Bosch.
LOCATION:Rosgartenmuseum Konstanz\, Rosgartenstraße 3- 5\, 78462 Konstanz
DTSTART;TZID=Europe/Zurich:20260508T180000
DTEND;TZID=Europe/Zurich:20260508T220000
ORGANIZER:Städtische Museen Konstanz
END:VEVENT
END:VCALENDAR
