BEGIN:VCALENDAR
VERSION:2.0
PRODID:-//Sabre//Sabre VObject 4.5.8//EN
CALSCALE:GREGORIAN
BEGIN:VEVENT
UID:sabre-vobject-7ca89344-24cb-4765-98ba-7deca3212a14
DTSTAMP:20260423T220423Z
SUMMARY:Thema des Monats Mai
DESCRIPTION:Die prähistorischen Pfahlbauten um die Alpen gehören zu den f
 aszinierendsten archäologischen Fundstätten Europas – und liegen direk
 t vor unserer Haustür in Baden-Württemberg. Seit 2011 zählen sie zum UN
 ESCO-Welterbe und erzählen eindrucksvoll von den Lebenswelten unserer Vor
 fahren\, die vor über 6000 Jahren an den Seeufern siedelten.\nIn ihrem Vo
 rtrag lädt Dr. Sarah Scoppie\, Referentin für das Welterbe Prähistorisc
 he Pfahlbauten um die Alpen vom Landesamt für Denkmalpflege dazu ein\, da
 s Welterbe neu zu betrachten: als Sehnsuchtsort mit einer langen und spann
 enden Forschungsgeschichte\, aber auch als Lernort\, der dazu beiträgt\, 
 unser kulturelles Erbe für die Zukunft zu bewahren.\n„Unsere Pfahlbaute
 n“ sind dabei beides – historische Zeugnisse und zukunftsweisende Orte
 \, die Verantwortung und Begeisterung zugleich wecken. 
LOCATION:Rosgartenmuseum Konstanz\, Rosgartenstraße 3- 5\, 78462 Konstanz
DTSTART;TZID=Europe/Zurich:20260506T190000
DTEND;TZID=Europe/Zurich:20260506T220000
ORGANIZER:Städtische Museen Konstanz
END:VEVENT
END:VCALENDAR
