BEGIN:VCALENDAR
VERSION:2.0
PRODID:-//Sabre//Sabre VObject 4.5.8//EN
CALSCALE:GREGORIAN
BEGIN:VEVENT
UID:sabre-vobject-dd9dc7da-9c8b-4705-93d0-f489a65e5030
DTSTAMP:20260423T220129Z
SUMMARY:Öffentlicher Stadtspaziergang
DESCRIPTION:In Konstanz sind bis heute zahlreiche italienische Spuren sicht
 bar. Ein Stadtspaziergang mit dem Konstanzer Historiker Hans-Peter Metzger
  beleuchtet diese historischen Verbindungen. Bereits um 300 n. Chr. errich
 teten die Römer das Kastell „Constantia“ beim heutigen Münster. Im M
 ittelalter machte der Leinwandhandel mit der Lombardei die Stadt wohlhaben
 d.\nEin zentrales Kapitel ist das Konzil von Konstanz (1414–1418)\, bei 
 dem unter anderem Papst Martin V. gewählt wurde\; die italienische Konzil
 snation tagte im heutigen Inselhotel. Auch die Idee von Bischof Konrad\, K
 onstanz als „Roma secunda“ zu gestalten\, sowie der Frieden von Konsta
 nz unter Kaiser Barbarossa mit den lombardischen Städten werden thematisi
 ert.\nDer Rundgang bietet einen kompakten Einblick in die italienisch gepr
 ägte Geschichte der Stadt.
LOCATION:Rosgartenmuseum Konstanz\, Rosgartenstraße 3- 5\, 78462 Konstanz
DTSTART;TZID=Europe/Zurich:20260510T140000
DTEND;TZID=Europe/Zurich:20260510T140000
ORGANIZER:Städtische Museen Konstanz
END:VEVENT
END:VCALENDAR
