BEGIN:VCALENDAR
VERSION:2.0
PRODID:-//Sabre//Sabre VObject 4.5.8//EN
CALSCALE:GREGORIAN
BEGIN:VEVENT
UID:sabre-vobject-2a89bda1-42df-4995-9eb9-113a6c39a464
DTSTAMP:20260423T220129Z
SUMMARY:Primavera - Vivaldi und ich
DESCRIPTION:von Damiano Michieletto\\nItalien 2024\, 110 Min\, I/d\, ab etw
 a 14\n\\nIm Venedig des 18. Jahrhunderts lebt die Geigerin Cecilia im grö
 ssten Waisenhaus Venedigs. Dort erhalten talentierte Waisenmädchen eine m
 usikalische Ausbildung - aber nur\, um mit dem Orchester reiche Mäzene al
 s Geldgeber für das Waisenhaus zu gewinnen. Die Kunst hat Cecilias Geist 
 geöffnet\, aber nicht die Türen des Waisenhauses. Ihr einziger Ausweg w
 äre die Ehe. Mit der Ankunft des neuen Geigenlehrers gerät Cecilias geor
 dnete Welt ins Wanken. Sein Name ist Antonio Vivaldi.
LOCATION:Cinema Luna\, Lindenstrasse 10\, 8500 Frauenfeld
DTSTART;TZID=Europe/Zurich:20260512T193000
DTEND;TZID=Europe/Zurich:20260512T193000
ORGANIZER:Cinema Luna
END:VEVENT
END:VCALENDAR
