BEGIN:VCALENDAR
VERSION:2.0
PRODID:-//Sabre//Sabre VObject 4.5.8//EN
CALSCALE:GREGORIAN
BEGIN:VEVENT
UID:sabre-vobject-8e0ada7c-2974-444d-9210-f40127c1f582
DTSTAMP:20260423T215942Z
SUMMARY:Divine Comedy
DESCRIPTION:von Ali Asgari\\nIran 2025\, 98 Min\, Farsi/d\, ab etwa 14\n\\n
 Bahram ist weltweit ein angesehener Filmemacher – doch in seiner Heimat\
 , dem Iran\, verbietet der Staat die Vorführung seines neusten Films. So 
 eilt er zusammen mit seiner Freundin und Produzentin einen Tag lang durch 
 Teheran\, um wenigstens eine illegale Premiere zu organisieren.\n\\nEine S
 atire auf die Absurdität der iranischen Zensurpraxis – mit liebevollen 
 Referenzen an Nanni Moretti\, Woody Allen\, Abbas Kiarostami.
LOCATION:Cinema Luna\, Lindenstrasse 10\, 8500 Frauenfeld
DTSTART;TZID=Europe/Zurich:20260502T193000
DTEND;TZID=Europe/Zurich:20260502T193000
ORGANIZER:Cinema Luna
END:VEVENT
END:VCALENDAR
