BEGIN:VCALENDAR
VERSION:2.0
PRODID:-//Sabre//Sabre VObject 4.5.8//EN
CALSCALE:GREGORIAN
BEGIN:VEVENT
UID:sabre-vobject-92c9543d-215f-46d3-9941-169c3564b737
DTSTAMP:20260423T215931Z
SUMMARY:HV 2026 igKultur Ost
DESCRIPTION:Alle Jahre wieder bietet die HV der igKultur Ost die Möglichke
 it\, Einblick in die Tätigkeit zu erhalten. Das Netzwerk kennenzulernen u
 nd sich auszutauschen. 
LOCATION:KAFF Kulturlokal\, Zeughausstrasse 13\, 8500 Frauenfeld
DTSTART;TZID=Europe/Zurich:20260504T180000
DTEND;TZID=Europe/Zurich:20260504T210000
ORGANIZER:igKultur Ost
END:VEVENT
END:VCALENDAR
