BEGIN:VCALENDAR
VERSION:2.0
PRODID:-//Sabre//Sabre VObject 4.5.8//EN
CALSCALE:GREGORIAN
BEGIN:VEVENT
UID:sabre-vobject-306801eb-d8ef-4316-b381-1f6394de6976
DTSTAMP:20260423T110943Z
SUMMARY:umsonst & draußen - Murzarella
DESCRIPTION:Mit dem Besten aus ihren Soloprogrammen präsentiert Murzarella
  ihre unfassbare Kunst des Bauchredens und des Bauchgesangs. Da sind die K
 analratte Kalle\, die Heavy Metal röhrt\, der freche Kakadu\, der herzerg
 reifend Schlager singt oder Frau Adelheid\, die Opernarien schmetternde Di
 va und schließlich Leonie\, das schüchterne Löwenmädchen\, die mit Pop
 gesang überrascht.\nMurzarella haucht ihren Puppen Leben ein und lässt s
 ie singen! Und wie - in verschiedenen Stimmen\, auf höchstem Gesangsnivea
 u\, von der Königin der Nacht bis Highway to Hell. Dafür gab es bereits 
 10 renommierte Kleinkunstpreise. Sie begeisterte nicht nur im vergangenen 
 Jahr das Allensbacher Publikum\, das kaum glauben konnte\, dass der Gesang
  nicht vom Band\, sondern aus dem Bauch kommt. Eine rasante\, witzige Life
 -Show.\nMurzarella\, einzige Bauchsängerin muss man einfach erlebt haben.
LOCATION:KULTUR am SEE-Bühne\, Standweg 2\, 78476 Allensbach
DTSTART;TZID=Europe/Zurich:20260708T193000
DTEND;TZID=Europe/Zurich:20260708T213000
ORGANIZER:Kultur- und Tourismusbüro Allensbach
END:VEVENT
END:VCALENDAR
