BEGIN:VCALENDAR
VERSION:2.0
PRODID:-//Sabre//Sabre VObject 4.5.8//EN
CALSCALE:GREGORIAN
BEGIN:VEVENT
UID:sabre-vobject-3a59473f-1cf9-4bc6-b448-b6daf878f903
DTSTAMP:20260422T122543Z
SUMMARY:Vea Kaiser - Fabula Rasa
DESCRIPTION:Ein Wiener Grand Hotel\, das Ende der 80er: Angelika Moser\, Bu
 chhalterin\, setzt vermehrt auf unlautere Mittel\, um das elegante Etablis
 sement am Laufen zu halten - doch die Jahre vergehen und die Zahlen beginn
 en sich zu rächen. Ein gewitzter\, gefühlvoller Roman.
LOCATION:Kantonsbibliothek Thurgau\, Promenadenstrasse 12\, 8500 Frauenfeld
DTSTART;TZID=Europe/Zurich:20260529T180000
DTEND;TZID=Europe/Zurich:20260529T190000
ORGANIZER:Lesefeld - Lesungen in und um Frauenfeld
END:VEVENT
END:VCALENDAR
