BEGIN:VCALENDAR
VERSION:2.0
PRODID:-//Sabre//Sabre VObject 4.5.8//EN
CALSCALE:GREGORIAN
BEGIN:VEVENT
UID:sabre-vobject-3011e207-3cc5-4e45-9667-079dec060b7f
DTSTAMP:20260422T122548Z
SUMMARY:Daniel Speck - Villa Rivolta
DESCRIPTION:Die Firma Rivolta schrieb im Nachkriegsitalien Industriegeschic
 hte und Daniel Speck packt diese Geschichte in einen Roman\, wie nur er ih
 n schreiben konnte. Sein Schreibort: Die Villa Rivolta. Liebe\, Freundscha
 ft\, die Mafia\, die Roten Brigaden und die traurige Kriegsvergangenheit i
 n Norditalien fächern sich auf zu einem unvergesslichen Roman.
LOCATION:Theaterwerkstatt Gleis 5\, Lindenstrasse 26a\, 8500 Frauenfeld
DTSTART;TZID=Europe/Zurich:20260529T200000
DTEND;TZID=Europe/Zurich:20260529T215900
ORGANIZER:Lesefeld - Lesungen in und um Frauenfeld
END:VEVENT
END:VCALENDAR
