BEGIN:VCALENDAR
VERSION:2.0
PRODID:-//Sabre//Sabre VObject 4.5.8//EN
CALSCALE:GREGORIAN
BEGIN:VEVENT
UID:sabre-vobject-293a5ec4-445f-43e2-a2e0-e84f470d9188
DTSTAMP:20260422T122711Z
SUMMARY:Nora Gomringer - Am Meerschwein übt das Kind den Tod
DESCRIPTION:Makaber mutet der Titel des ersten Romanes der Lyrikerin Nora G
 omringer an - doch was nach Galgenhumor klingt\, ist ein liebevoller und p
 oetischer Nachruf auf die Mutter der Autorin\, der seinesgleichen sucht. 
LOCATION:Kantonsbibliothek Thurgau\, Promenadenstrasse 12\, 8500 Frauenfeld
DTSTART;TZID=Europe/Zurich:20260529T193000
DTEND;TZID=Europe/Zurich:20260529T203000
ORGANIZER:Lesefeld - Lesungen in und um Frauenfeld
END:VEVENT
END:VCALENDAR
