BEGIN:VCALENDAR
VERSION:2.0
PRODID:-//Sabre//Sabre VObject 4.5.8//EN
CALSCALE:GREGORIAN
BEGIN:VEVENT
UID:sabre-vobject-61e3533c-5513-47c4-81fe-1fa377cbe11b
DTSTAMP:20260422T122820Z
SUMMARY:Thomas Meyer und Magali Franov - Herschel
DESCRIPTION:Am Meerschweinchen übt das Kind den Tod - oder eben am Familie
 nhund. Thomas Meyer hat dieses wundervolle Bilderbuch über den geliebten 
 Vierbeiner Herschel verfasst\, das von Magali Franov illustriert wurde.\nG
 emeinsam erwecken die Beiden diese empathische Geschichte über den Verlus
 t zum Leben. 
LOCATION:saxbooks\, Zürcherstrasse 183\, 8500 Frauenfeld
DTSTART;TZID=Europe/Zurich:20260530T160000
DTEND;TZID=Europe/Zurich:20260530T170000
ORGANIZER:Lesefeld - Lesungen in und um Frauenfeld
END:VEVENT
END:VCALENDAR
