BEGIN:VCALENDAR
VERSION:2.0
PRODID:-//Sabre//Sabre VObject 4.5.8//EN
CALSCALE:GREGORIAN
BEGIN:VEVENT
UID:sabre-vobject-23adf33b-e33d-4a3a-bc33-62ad8e4a46fa
DTSTAMP:20260422T122710Z
SUMMARY:Arno Geiger - Werkspaziergang
DESCRIPTION:Vor 20 Jahren gewann Arno Geiger den ersten Deutschen Buchpreis
  für seinen Roman Es geht uns gut. Was ist seither passiert? Wie hat der 
 Buchpreis den Autor geprägt und wie entstanden seine Bücher bis zum neue
 sten Roman Reise nach Laredo?
LOCATION:Theaterwerkstatt Gleis 5\, Lindenstrasse 26a\, 8500 Frauenfeld
DTSTART;TZID=Europe/Zurich:20260530T210000
DTEND;TZID=Europe/Zurich:20260530T220000
ORGANIZER:Lesefeld - Lesungen in und um Frauenfeld
END:VEVENT
END:VCALENDAR
