BEGIN:VCALENDAR
VERSION:2.0
PRODID:-//Sabre//Sabre VObject 4.5.8//EN
CALSCALE:GREGORIAN
BEGIN:VEVENT
UID:sabre-vobject-a1345f6d-a2a1-4224-b1e7-37de45a802c3
DTSTAMP:20260422T122717Z
SUMMARY:Sonntagsspaziergang mit Gianna Olinda Cadonau
DESCRIPTION:Gianna Olinda Cadonau (Feuerlilie) legt mit Am Kantenhain einen
  Erzählband mit atmosphärisch dichten Geschichten mit suggestiver Sogwir
 kung vor. Sie erzählt vom Fremden\, vom Anderssein\, von der Suche nach Z
 ugehörigkeit\, von Freundschaft\, Rätseln und Wundern. Alle Besuchenden 
 erhalten für den Spaziergang einen Kopfhörer mit individuell einstellbar
 er Lautstärke. Eine Kollaboration mit lauschig. 
LOCATION:Naturmuseum Thurgau\, Freie Strasse 24\, 8510 Frauenfeld
DTSTART;TZID=Europe/Zurich:20260531T100000
DTEND;TZID=Europe/Zurich:20260531T120000
ORGANIZER:Lesefeld - Lesungen in und um Frauenfeld
END:VEVENT
END:VCALENDAR
