BEGIN:VCALENDAR
VERSION:2.0
PRODID:-//Sabre//Sabre VObject 4.5.8//EN
CALSCALE:GREGORIAN
BEGIN:VEVENT
UID:sabre-vobject-10b76b35-25e4-4140-8ec6-6e731d71d83b
DTSTAMP:20260422T122550Z
SUMMARY:Bonissimo die Rateshow mit Boni Koller & Elena Mpintsis
DESCRIPTION:Bei Bonissimo gibt es im Gegensatz zur einstmals berühmten TV-
 Sendung Benissimo keine Million zu gewinnen\, dafür aber neben klassische
 n Quizelementen auch Livemusik und theatralische Szenen.\nBoni Koller und 
 Elena Mpintsis singen\, zitieren und tanzen Hits aus verschiedenen Stilric
 htungen und Epochen. Das Publikum darf sich zurücklehnen und staunen\, ab
 er auch eingreifen und Lösungsvorschläge beisteuern. Wer erkennt die ver
 fremdeten Kulturschätze aus Musik\, Theater\, Literatur usw.? „Enter Sa
 ndman“ als Operette\, „Vom Winde verweht“ als Arztroman oder „Rome
 o und Julia“ als Wrestling-Show? Alles ist möglich bei Bonissimo!\nDank
  jahrzehntelanger Bühnenerfahrung mit Musik-\, Theater- und Rate-Shows k
 önnen Elena und Boni bei Bonissimo aus dem Vollen schöpfen.\\nElena Mpin
 tsis ist freischaffende Schauspielerin und Sängerin (Saloniki Express)\, 
 Boni Koller ist Autor und Musiker (Baby Jail\, Schtärneföifi).
LOCATION:goldener dachs\, Schulstrasse 1\, 8570 Weinfelden
DTSTART;TZID=Europe/Zurich:20260424T201500
DTEND;TZID=Europe/Zurich:20260424T223000
ORGANIZER:Kulturverein Frohsinn
END:VEVENT
END:VCALENDAR
