BEGIN:VCALENDAR
VERSION:2.0
PRODID:-//Sabre//Sabre VObject 4.5.8//EN
CALSCALE:GREGORIAN
BEGIN:VEVENT
UID:sabre-vobject-d6901642-ed8d-44ce-aef9-1d08c6c008ea
DTSTAMP:20260422T122640Z
SUMMARY:Öffentliche Führung durch die Ausstellung «Zwischen Wurzeln und 
 Wipfeln»
DESCRIPTION:Zwischen Wurzelwerk und Wipfeln verbirgt sich weit mehr als ein
  Naturraum – der Wald ist kultureller Bedeutungs- und Projektionsraum. D
 ie öffentliche Führung durch die Sammlungsschau zeigt anhand ausgewählt
 er Werke und ihrer Hintergründe verschiedene Blickwinkel auf das Thema «
 Wald».
LOCATION:Kunstmuseum Thurgau\, Kartause Ittingen\, 8532 Warth
DTSTART;TZID=Europe/Zurich:20260614T114500
DTEND;TZID=Europe/Zurich:20260614T124500
ORGANIZER:Kunstmuseum Thurgau
END:VEVENT
END:VCALENDAR
