BEGIN:VCALENDAR
VERSION:2.0
PRODID:-//Sabre//Sabre VObject 4.5.8//EN
CALSCALE:GREGORIAN
BEGIN:VEVENT
UID:sabre-vobject-a8d638b0-a96c-4831-a06b-4602abcbb2e7
DTSTAMP:20260422T122715Z
SUMMARY:Künstlerinnen kartografieren
DESCRIPTION:Vor 175 Jahren kam die Porträtistin\, Kunstschulleiterin und W
 eltreisende Jenny Hippenmeyer (1851–1911) auf die Welt. 75 Jahre ist es 
 her\, dass die Freilichtmalerin Martha Haffter (1873–1951) in Frauenfeld
  verstarb. Beide waren gebürtige Thurgauerinnen und ihr Leben lang künst
 lerisch aktiv\, gingen jedoch - wie viele ihrer Kolleginnen - nach ihrem T
 od vergessen. Wie kam es dazu?\\n\\nAusgehend von ihren Recherchen zu Mart
 ha Haffter nimmt die Kunsthistorikerin Monica Seidler-Hux die Teilnehmende
 n mit auf Spurenlese zu vergessenen beziehungsweise «verunsichtbarten» T
 hurgauer und Zürcher Künstlerinnen zwischen 1850 und 1950: Mathilde van 
 Zuylen-Ammann\, Jenny Hippenmeyer\, Emma Bindschedler\, Louise Breslau\, O
 ttilie W. Roederstein\, Elisabeth Thomann-Altenburger und weitere.\nGelege
 ntlich sind es überraschende Orte\, an denen wir fündig werden. Manchmal
  bleiben Wissenslücken. Aus zahlreichen Einzelfunden ergibt sich allmähl
 ich eine bessere Vorstellung von den Chancen und Lebensentwürfen dieser u
 nkonventionellen Frauen\, die an die Kunst glaubten und ihrem Ruf trotz Vo
 rurteilen und Widerständen folgten.
LOCATION:Kunstmuseum Thurgau\, Kartause Ittingen\, 8532 Warth
DTSTART;TZID=Europe/Zurich:20260609T184500
DTEND;TZID=Europe/Zurich:20260609T184500
ORGANIZER:Kunstmuseum Thurgau
END:VEVENT
END:VCALENDAR
