BEGIN:VCALENDAR
VERSION:2.0
PRODID:-//Sabre//Sabre VObject 4.5.8//EN
CALSCALE:GREGORIAN
BEGIN:VEVENT
UID:sabre-vobject-abafb5b2-1a3b-4c6c-a69e-f1d4bc3127e1
DTSTAMP:20260422T122641Z
SUMMARY:Öffentliche Führung durch den Samengarten Hortiplus
DESCRIPTION:Auf der Führung durch diesen Garten erfahren die Teilnehmenden
  mehr über die Eigenschaften traditioneller Nutzpflanzen\, deren Wichtigk
 eit in der Gegenwart und wie sie für künftige Generationen bewahrt und w
 eitergezüchtet werden. Vor dem Hintergrund einer durchtechnisierten Food-
 Industrie steigt die Sehnsucht der Konsumentinnen und Konsumenten beim Ess
 en nach Echtheit und Sinnlichkeit\, nach regionaler Nähe\, Tier- und Umwe
 ltschutz\, nach Gesundheit und Genuss.\nLange Zeit gaben sie keinen Gespr
 ächsstoff\, die guten und bewährten Sorten\, die in den Gemüsegärten w
 uchsen und die Gemeinschaft mit gesunder\, wohlschmeckender Frischkost ver
 sorgten. Doch heute\, wo solche Sorten verschwinden und kaum mehr zu finde
 n sind\, werden sie zu recht vermisst.\\n\\nHier\, im Samengarten Hortiplu
 s Zollinger in der Kartause Ittingen\, werden sie gezeigt. Diese Pflanzen 
 sind besonders wertvoll für die Kultur im eigenen Garten.\\n\\nDer einst
 ündige Rundgang findet bei jeder Witterung im Freien statt.\\n\\nTreffpun
 kt bei der Réception der Kartause Ittingen.
LOCATION:Kartause Ittingen\, 8532 Warth
DTSTART;TZID=Europe/Zurich:20260628T104500
DTEND;TZID=Europe/Zurich:20260628T114500
ORGANIZER:Ittinger Museum
END:VEVENT
END:VCALENDAR
