BEGIN:VCALENDAR
VERSION:2.0
PRODID:-//Sabre//Sabre VObject 4.5.8//EN
CALSCALE:GREGORIAN
BEGIN:VEVENT
UID:sabre-vobject-dcbf9a3c-5dfa-47ff-9cda-a2318dcb37fc
DTSTAMP:20260421T163419Z
SUMMARY:Ausrasten
DESCRIPTION:Regie Lilian Prent\\nDramaturgie Romana Lautner\\nMit Julius En
 gelbach \nSchließen sich Unterricht und Zappeln eigentlich aus? Was pass
 iert\, wenn der ganze Körper in Bewegung gerät? Wie fühlt sich ein wirb
 elndes Blatt im Wind an? Wie sieht ein Tanz aus\, der mit dem Finger begin
 nt? Und wie riecht eigentlich die Stille?\nEs ist einfach schwer\, ruhig z
 u bleiben\, wenn man sich doch so gerne bewegen möchte. Da geht es allen 
 gleich! In dem von Dana Csapo und Sabine Maringer für das Wiener Klassenz
 immertheater entwickelten Stück ist es die Lehrkraft\, die Probleme mit d
 em Fokussieren und Stillsitzen hat. Sie ist ganz neu an der Schule\, liebt
  die Natur und Sachkunde ist deshalb auch ihr Lieblingsfach. Ein Blatt\, d
 as vom Baum fällt\, kann sie ganz schnell zum Träumen verführen\, ihr F
 inger weiß manchmal mehr als ihr Kopf und ihre Füße balancieren gerne a
 lle möglichen und unmöglichen Dinge …\nDas Klassenzimmerstück „Ausr
 asten“ ist ein herrlicher Spaß\, eine nicht alltägliche Schulstunde. M
 al verträumt\, mal verrückt\, mal wild und manchmal ganz ruhig lockt die
 se Stunde alle von ihren Plätzen. Lilian Prent ist Schauspielerin und Reg
 isseurin. Mit „Goldzombies“ hat sie in der letzten Spielzeit als Spiel
 erin die ganze Region bereist und die spezifische Spielsituation im Klasse
 nzimmer kennen und schätzen gelernt. Auf „Ausrasten“ freut sie sich\,
  weil sie manchmal selbst nicht weiß\, wann sie leise und wann sie laut s
 ein mag.
LOCATION:Werkstatt\, Inselgasse 2- 6\, 78462 Konstanz
DTSTART;TZID=Europe/Zurich:20260503T150000
DTEND;TZID=Europe/Zurich:20260503T160000
ORGANIZER:Theater Konstanz
END:VEVENT
END:VCALENDAR
