BEGIN:VCALENDAR
VERSION:2.0
PRODID:-//Sabre//Sabre VObject 4.5.8//EN
CALSCALE:GREGORIAN
BEGIN:VEVENT
UID:sabre-vobject-3ae08279-e736-44e1-bded-3694c34eeae8
DTSTAMP:20260421T123655Z
SUMMARY:Fluss frei für den Lachs
DESCRIPTION:Der Wanderfisch Lachs legt in seinem Leben tausende Kilometer z
 urück und ist bei uns seit 60 Jahren ausgestorben. Die Teilnehmenden bege
 ben sich mit Aqua Viva und dem WWF auf die Spuren des Lachses. Der Wanderf
 isch Lachs reist in seinem Leben weite Strecken und war früher auch bei u
 ns in der Schweiz ein vielgesehener Gast.\nWelche Gründe hat sein Verschw
 inden? Was können wir tun\, damit er wieder in die Schweiz zurückkehrt? 
 Was bedeuten überhaupt natürliche und verbaute Gewässer? Um genau diese
  Fragen auf entdeckende\, erforschende und spielerische Art und Weise zu e
 rgründen\, haben Aqua Viva (Projekt Fluss frei!) und der WWF Schweiz (Pro
 jekt Lachs Comeback) dieses Angebot für Kinder entwickelt.
LOCATION:Lindenhofpark\, Lindenstrasse\, 8500 Frauenfeld
DTSTART;TZID=Europe/Zurich:20261005T140000
DTEND;TZID=Europe/Zurich:20261005T171500
ORGANIZER:WWF Regiobuero AP-SG-TG
END:VEVENT
END:VCALENDAR
