BEGIN:VCALENDAR
VERSION:2.0
PRODID:-//Sabre//Sabre VObject 4.5.8//EN
CALSCALE:GREGORIAN
BEGIN:VEVENT
UID:sabre-vobject-c7e2f3ed-4a45-4743-a4ec-a3b2b216cdf3
DTSTAMP:20260421T123813Z
SUMMARY:30 Minuten Orgelmusik
DESCRIPTION:Live-Übertragung vom Spieltisch in den Kirchenraum und auf den
  YouTube-Kanal: Evangelische Kirche Weinfelden - Live.
LOCATION:Evang.-ref. Kirche Weinfelden\, Kirchgasse 4\, 8570 Weinfelden
DTSTART;TZID=Europe/Zurich:20261201T190000
DTEND;TZID=Europe/Zurich:20261201T193000
ORGANIZER:Kristofer Kiesel
END:VEVENT
END:VCALENDAR
