BEGIN:VCALENDAR
VERSION:2.0
PRODID:-//Sabre//Sabre VObject 4.5.8//EN
CALSCALE:GREGORIAN
BEGIN:VEVENT
UID:sabre-vobject-1f9aa82f-cc01-478e-a59a-78b3cbdaa8a1
DTSTAMP:20260421T123532Z
SUMMARY:Michael
DESCRIPTION:Er ist einer der einflussreichsten Künstler aller Zeiten – d
 er King of Pop. Michael ist das Portrait eines Ausnahmekünstlers\, desse
 n Musik die Welt bewegt und jede Generation bis heute inspiriert hat.\\n\\
 nCAST &amp\; CREW\\nDirector: Antoine Fuqua\\nProducer: John Branca\, Grah
 am King\, John McClain\\nCast: Jaafar Jackson\, Kimberly Hardin\, Victoria
  Thomas\\n\\nDuration: 127\\nProduktion: USA\, 2025\\nDistribution: Univer
 sal Pictures International Switzerland
LOCATION:Liberty Cinema\, Amriswilerstrasse 106b\, 8570 Weinfelden
DTSTART;TZID=Europe/Zurich:20260424T200000
DTEND;TZID=Europe/Zurich:20260424T200000
ORGANIZER:Liberty Cinema
END:VEVENT
END:VCALENDAR
