BEGIN:VCALENDAR
VERSION:2.0
PRODID:-//Sabre//Sabre VObject 4.5.8//EN
CALSCALE:GREGORIAN
BEGIN:VEVENT
UID:sabre-vobject-9cef9ba0-744b-4f25-ac23-fbb47a1e3397
DTSTAMP:20260421T144653Z
SUMMARY:Hoppers
DESCRIPTION:In Hoppers hopst Tierfreundin Mabel ohne Zögern los\, um mithi
 lfe einer neuen Technologie mit Tieren zu kommunizieren\, und gerät dabei
  in ein turbulentes Abenteuer voller Überraschungen.\nWissenschaftler hab
 en entdeckt\, wie man menschliches Bewusstsein in lebensechte Robotertiere
  „hüpfen“ lassen kann\, so dass Menschen mit Tieren als Tieren kommun
 izieren können. Mit Hilfe der neuen Technologie entdeckt Mabel Geheimniss
 e in der Tierwelt\, die alles übertreffen\, was sie sich je hätte vorste
 llen können.\\n\\nCAST &amp\; CREW\\nDirector: Daniel Chong\\nProducer: N
 icole Paradis Grindle\\nScript: Jesse Andrews\, Daniel Chong\\n\\nProdukti
 on: USA\, 2026\\nDistribution: The Walt Disney Company Switzerland GmbH
LOCATION:Liberty Cinema\, Amriswilerstrasse 106b\, 8570 Weinfelden
DTSTART;TZID=Europe/Zurich:20260426T140000
DTEND;TZID=Europe/Zurich:20260426T140000
ORGANIZER:Liberty Cinema
END:VEVENT
END:VCALENDAR
