BEGIN:VCALENDAR
VERSION:2.0
PRODID:-//Sabre//Sabre VObject 4.5.8//EN
CALSCALE:GREGORIAN
BEGIN:VEVENT
UID:sabre-vobject-e215ebf1-835f-4490-b2d8-e4eb37e0ec54
DTSTAMP:20260421T104048Z
SUMMARY:Der Super Mario Galaxy Film
DESCRIPTION:Der Super Mario Galaxy Film ist der neue Animationsfilm\, basie
 rend auf der Welt von „Super Mario Bros.“ Das erste Mario-Abenteuer De
 r Super Mario Bros. Film startete 2023 in den Kinos\, spielte weltweit meh
 r als 1\,3 Milliarden Dollar ein und begeisterte in Deutschland mehr als 5
  Millionen Kinozuschauer.\nCAST &amp\; CREW\\nDirector: Aaron Horvath\, Mi
 chael Jelenic\\nProducer: Christopher Meledandri\, Shigeru Miyamoto\\nCast
 : Chris Pratt\, Anya Taylor-Joy\, Jack Black\, Keegan-Michael Key\, Charli
 e Day\, Kevin Michael Richardson\nDuration: 98\\nProduktion: Japan / USA\,
  2026\\nDistribution: Universal Pictures International Switzerland
LOCATION:Liberty Cinema\, Amriswilerstrasse 106b\, 8570 Weinfelden
DTSTART;TZID=Europe/Zurich:20260426T140000
DTEND;TZID=Europe/Zurich:20260426T140000
ORGANIZER:Liberty Cinema
END:VEVENT
END:VCALENDAR
