BEGIN:VCALENDAR
VERSION:2.0
PRODID:-//Sabre//Sabre VObject 4.5.8//EN
CALSCALE:GREGORIAN
BEGIN:VEVENT
UID:sabre-vobject-b4a54b93-441e-4573-a2df-c889836dd35f
DTSTAMP:20260424T145819Z
SUMMARY:Midi Musical: Quintett und Oktett
DESCRIPTION:Das Musikkollegium Winterthur präsentiert an sechs Freitagen e
 in Mittagsprogramm mit Kammermusik im Foyer des Theater Winterthur. Eine m
 usikalische Auszeit über Mittag. Ein kleiner Imbiss und Getränke sind an
  der Bar im Foyer erhältlich.\\n\\nDieses Mal mit Werken von Willy Hess u
 nd Ferdinand Thieriot.
LOCATION:Theater Winterthur\, Theaterstrasse 6\, 8401 Winterthur
DTSTART;TZID=Europe/Zurich:20260508T121500
DTEND;TZID=Europe/Zurich:20260508T131500
ORGANIZER:Theater Winterthur
END:VEVENT
END:VCALENDAR
