BEGIN:VCALENDAR
VERSION:2.0
PRODID:-//Sabre//Sabre VObject 4.5.8//EN
CALSCALE:GREGORIAN
BEGIN:VEVENT
UID:sabre-vobject-a52ad7ee-e9ea-4bef-970d-6f68301bb91b
DTSTAMP:20260423T164227Z
SUMMARY:Limit - Expedition zum Rande der Welt
DESCRIPTION:Die alten Seefahrer hielten das offene Meer für äusserst gef
 ährlich – irgendwo am Horizont musste das Ende der Welt lauern. Die Ang
 st vor dem Absturz über den Rand der Welt segelte immer mit.\\n\\nInzwisc
 hen weiss man\, dass die Erde eine Kugel ist und sich die Welt weit in die
  Tiefen des Kosmos dehnt. Doch ist das Weltall wirklich unendlich? Atember
 aubende Bilder zeigen das Universum\, wie man es noch nie gesehen hat. Das
  Raumschiff nimmt die Besucher:innen mit auf einen berauschenden Flug durc
 h die unendlichen Weiten des Kosmos. Vorbei an zahllosen Sternen\, riesige
 n Gaswolken und Galaxien\, an den Rand des Universums.\\n\\nAb 10 Jahren.\
 \n\\nAlle Planetariums-Shows sind eindrucksvolle\, multi-mediale Erlebniss
 e auf einer 360° Fulldome-Leinwand und werden durch die kompetenten Mitgl
 ieder der Astronomischen Vereinigung Kreuzlingen AVK durchgeführt. Jede S
 how schliesst mit einem live moderierten Blick in den aktuellen Sternenhim
 mel - dank Projektion und Kuppel-Leinwand bei jeder Witterung möglich.\nT
 üröffnung 30 Minuten vor Showbeginn
LOCATION:Bodensee Planetarium und Sternwarte\, Breitenrainstrasse 21\, 8280
  Kreuzlingen
DTSTART;TZID=Europe/Zurich:20260525T160000
DTEND;TZID=Europe/Zurich:20260525T160000
ORGANIZER:Bodensee Planetarium & Sternwarte
END:VEVENT
END:VCALENDAR
