BEGIN:VCALENDAR
VERSION:2.0
PRODID:-//Sabre//Sabre VObject 4.5.8//EN
CALSCALE:GREGORIAN
BEGIN:VEVENT
UID:sabre-vobject-2ae02daf-1277-4512-8602-4cbedac2064c
DTSTAMP:20260421T123531Z
SUMMARY:Magic Globe - Das Geheimnis der Jahreszeiten
DESCRIPTION:Auf dem Dachboden Ihres Großvaters entdeckt das kleine Mädche
 n Mia eine geheimnisvolle Maschine. Ihr exzentrischer Onkel Edmund überre
 det sie\, die geheimen Kräfte dieser Maschine zu nutzen\, um die Jahresze
 iten auf der Erde zu verändern. Doch Mia erkennt schnell die negativen Ko
 nsequenzen des Vorhabens.\\n\n\\n\nMan kennt das Sprichwort: Im Osten geht
  die Sonne auf\, im Süden nimmt sie ihren Lauf - Doch wie genau funktioni
 ert das? Warum sind im Sommer die Tage länger und im Winter kürzer? Und 
 welche Auswirkungen hat das auf die Tiere?\\n\n\\n\nInnerhalb einer spanne
 nd erzählten Geschichte beantwortet Magic Globe diese Fragen und erklärt
 \, wie die Bewegungen der Erde um die Sonne nicht nur über Tag und Nacht 
 entscheiden\, sondern auch ganze Jahreszeiten bestimmen.\\n\n\\n\nAb 6 Jah
 ren.Türöffnung 30 Minuten vor Showbeginn.
LOCATION:Bodensee Planetarium und Sternwarte\, Breitenrainstrasse 21\, 8280
  Kreuzlingen
DTSTART;TZID=Europe/Zurich:20260502T150000
DTEND;TZID=Europe/Zurich:20260502T150000
ORGANIZER:Bodensee Planetarium & Sternwarte
END:VEVENT
END:VCALENDAR
