BEGIN:VCALENDAR
VERSION:2.0
PRODID:-//Sabre//Sabre VObject 4.5.8//EN
CALSCALE:GREGORIAN
BEGIN:VEVENT
UID:sabre-vobject-ce0b4c84-b8cb-42be-af54-20f18e4cf7e1
DTSTAMP:20260421T122351Z
SUMMARY:Konzert MG Hugelshofen
DESCRIPTION:Die Musikgesellschaft Hugelshofen ist zu Gast am Ekkharthof und
  lädt zu einem stimmungsvollen Konzert ein. Mit ihrem abwechslungsreichen
  Blasmusik-Repertoire sorgt sie für einen klangvollen Abend in besonderer
  Atmosphäre.\\nMusik\, Begegnung und den Ekkharthof als Ort der Kultur un
 d Gemeinschaft.
LOCATION:Ekkharthof\, Rütelistrasse 2\, 8574 Lengwil
DTSTART;TZID=Europe/Zurich:20260424T190000
DTEND;TZID=Europe/Zurich:20260424T210000
ORGANIZER:Ekkharthof
END:VEVENT
END:VCALENDAR
