BEGIN:VCALENDAR
VERSION:2.0
PRODID:-//Sabre//Sabre VObject 4.5.8//EN
CALSCALE:GREGORIAN
BEGIN:VEVENT
UID:sabre-vobject-8e673067-66d0-4d9b-9080-afcecbbfdcb9
DTSTAMP:20260421T123532Z
SUMMARY:Muttertag auf dem Schiff
DESCRIPTION:Genussvolle Ausfahrt auf dem Bodensee mit stilvollem Ambiente u
 nd herrlicher Aussicht. Zwei Stunden entspanntes Gleiten über den Unterse
 e\, begleitet von einem frisch zubereiteten 3-Gänge-Menü „Mama’s Lak
 e Lunch“.\nZeit für gemeinsame Momente über Generationen hinweg – Fa
 milien\, Grosseltern und Kinder erleben einen unvergesslichen Mittag ohne 
 Alltagsstress. Vegetarische Optionen und Sonderwünsche nach Voranmeldung 
 möglich.\nMuttertag geniessen – auch ohne Ausfahrt\\nDieses besondere E
 rlebnis ist auch ganz entspannt im Hafen möglich: Ab 15.00 Uhr servieren 
 wir an Bord in Ermatingen unser liebevoll zusammengestelltes „Mama’s L
 ake Menü“ als feines 3-Gänge-Erlebnis. Perfekt für alle\, die den Mut
 tertag lieber als später Lunch oder gemütliches Abendessen am Wasser ver
 bringen möchten – ganz ohne Schifffahrt\, aber mit derselben besonderen
  Atmosphäre.\nPreis: ab CHF 49 pro Person
LOCATION:Ermatingen\, 8272 Ermatingen
DTSTART;TZID=Europe/Zurich:20260510T110000
DTEND;TZID=Europe/Zurich:20260510T140000
ORGANIZER:erMarina / Event- & Gastroschiff Stedi-Schiff GmbH
END:VEVENT
END:VCALENDAR
