BEGIN:VCALENDAR
VERSION:2.0
PRODID:-//Sabre//Sabre VObject 4.5.8//EN
CALSCALE:GREGORIAN
BEGIN:VEVENT
UID:sabre-vobject-c0e290b2-da48-4cc5-a534-931b09e3d49f
DTSTAMP:20260421T122355Z
SUMMARY:Benefiz-Filmabend
DESCRIPTION:Die Teilnehmenden geniessen einen entspannten Abend mit köstli
 chen\, überwiegend hausgemachten Apéro-Spezialitäten\, einem erfrischen
 den Getränk und anregenden Gesprächen – ein stimmiger Einstieg in eine
 n bewegenden Filmabend.\nMit der Teilnahme wird ein Projekt zugunsten des 
 Frauenhaus Winterthur unterstützt.\nDer Filmtitel bleibt wie gewohnt offe
 n.
LOCATION:Kantonsschule Kreuzlingen\, Pestalozzistrasse\, 8590 Romanshorn
DTSTART;TZID=Europe/Zurich:20260421T181500
DTEND;TZID=Europe/Zurich:20260421T181500
ORGANIZER:Club Soroptimist Kreuzlingen
END:VEVENT
END:VCALENDAR
