BEGIN:VCALENDAR
VERSION:2.0
PRODID:-//Sabre//Sabre VObject 4.5.8//EN
CALSCALE:GREGORIAN
BEGIN:VEVENT
UID:sabre-vobject-1a139613-5b79-4a6f-8441-a547e2e4b61c
DTSTAMP:20260420T120524Z
SUMMARY:Sister Rising
DESCRIPTION:„Sisters Rising“\, ein eindrucksvoller\, preisgekrönter Do
 kumentarfilm\, erzählt die Geschichte von sechs nordamerikanisch-indigene
 n Frauen\, die dafür kämpfen\, eine Gesellschaft zu heilen\, die schon v
 iel zu lange durch sexuelle und koloniale Gewalt gegenüber indigenen Frau
 en gelähmt ist. Nach der Filmvorführung ist das Publikum zur Diskussion 
 des Themas eingeladen. Moderation: Dr. Nina Reuther\, Musikethnologin und 
 Kulturenwissenschaftlerin.
LOCATION:K9 Kulturzentrum\, Hieronymusgasse 3\, 78462 Konstanz
DTSTART;TZID=Europe/Zurich:20260505T190000
DTEND;TZID=Europe/Zurich:20260505T210000
ORGANIZER:K9 Kulturzentrum
END:VEVENT
END:VCALENDAR
