BEGIN:VCALENDAR
VERSION:2.0
PRODID:-//Sabre//Sabre VObject 4.5.8//EN
CALSCALE:GREGORIAN
BEGIN:VEVENT
UID:sabre-vobject-3e9666cc-db02-4898-ae2d-bafcb9be7ab3
DTSTAMP:20260420T120357Z
SUMMARY:The Beauty of the Earth
DESCRIPTION:Lyrische und herzerwärmende Werke für Chor und Orchester von 
 John Rutter\, Ralph Vaughan Williams und Richard Strauss.\\n\n\\n\nZusamme
 n mit dem Sinfonischen Orchester Arbon wird die Schönheit der Natur und d
 es Lebens besungen und Staunen\, Dankbarkeit und Freude\, aber auch Fantas
 ie und Humor in Klang verwandelt.
LOCATION:Kulturzentrum Presswerk\, Hamelstrasse 15\, 9320 Arbon
DTSTART;TZID=Europe/Zurich:20260607T170000
DTEND;TZID=Europe/Zurich:20260607T180000
ORGANIZER:Konzertchor Ostschweiz
END:VEVENT
END:VCALENDAR
