BEGIN:VCALENDAR
VERSION:2.0
PRODID:-//Sabre//Sabre VObject 4.5.8//EN
CALSCALE:GREGORIAN
BEGIN:VEVENT
UID:sabre-vobject-573175f0-0cdc-45d9-ad79-519331475021
DTSTAMP:20260420T120222Z
SUMMARY:Tanzschiff
DESCRIPTION:An Bord des Tanzschiffes wird zu den Beats von DJ Many getanzt.
  Tanzen unter freiem Himmel sowie gemeinsames Feiern auf dem Bodensee steh
 en im Mittelpunkt. Musik\, Bewegung und Umgebung prägen die Veranstaltung
 . Für Gäste steht ein Speiseangebot à la carte zur Verfügung.\nAn Bord
  gilt freie Platzwahl\, auch für Gruppen.\\nTiere sind auf dieser Fahrt n
 icht erlaubt. Keine Vergünstigung mit Halbtax/GA.
LOCATION:Schweizerische Bodensee-Schifffahrt AG\, Friedrichshafnerstrasse 5
 5\, 8590 Romanshorn
DTSTART;TZID=Europe/Zurich:20260904T190000
DTEND;TZID=Europe/Zurich:20260904T223000
ORGANIZER:Schweizerische Bodensee-Schifffahrt AG
END:VEVENT
END:VCALENDAR
