BEGIN:VCALENDAR
VERSION:2.0
PRODID:-//Sabre//Sabre VObject 4.5.8//EN
CALSCALE:GREGORIAN
BEGIN:VEVENT
UID:sabre-vobject-2420f2df-b5db-418f-92b3-223e307d8d0c
DTSTAMP:20260420T120352Z
SUMMARY:Märliumzug
DESCRIPTION:Tägerwilen wird zur Märliwelt: Zum 100-jährigen Jubiläum de
 s Märliumzugs ziehen liebevoll gestaltete Märchenwagen durch das Dorf. V
 ereine\, Familien und Gruppen erwecken bekannte Geschichten zum Leben – 
 mit viel Kreativität\, Handarbeit und Freude.\\n\\nOb Froschkönig\, Hän
 sel und Gretel oder die Bremer Stadtmusikanten – entlang der Strecke ent
 steht eine besondere Atmosphäre\, die Generationen verbindet und zum Stau
 nen einlädt.\\n\\nDer Märliumzug findet an zwei Sonntagen statt und biet
 et ein Erlebnis für Gross und Klein. Ein Anlass voller Fantasie\, Begegnu
 ngen und lebendiger Dorfkultur.
LOCATION:8274 Tägerwilen
DTSTART;TZID=Europe/Zurich:20260913T140000
DTEND;TZID=Europe/Zurich:20260913T170000
ORGANIZER:Verein Märliumzug 2026
END:VEVENT
END:VCALENDAR
