BEGIN:VCALENDAR
VERSION:2.0
PRODID:-//Sabre//Sabre VObject 4.5.8//EN
CALSCALE:GREGORIAN
BEGIN:VEVENT
UID:sabre-vobject-830fa553-ac6c-4fa0-a967-b0f3b7e74702
DTSTAMP:20260420T120357Z
SUMMARY:Alle Farben
DESCRIPTION:Ein Artist\, der weltweit die grössten Floors spielt\, von Tom
 orrowland bis Parookaville\, und genau weiss\, wie man eine Crowd abholt. 
 Seine Sets bewegen sich zwischen House\, Tech House und melodischen Sounds
 \, immer mit einem klaren Ziel: Treibend\, emotional und auf den Punkt.\\n
 \\nKein Stillstehen. Kein Ausreden.\\n\\nLocal-Support kommt von Luc G\, M
 organ Button und Nofrete.\\n\\nDas Ganze ist der Start von Presswerk Elect
 ronic\, einer neuen elektronischen Party-Reihe im Presswerk Arbon. Der Fok
 us ist klar: starke Acts\, lauter Sound\, volle Energie.
LOCATION:Kulturzentrum Presswerk\, Hamelstrasse 15\, 9320 Arbon
DTSTART;TZID=Europe/Zurich:20260502T220000
DTEND;TZID=Europe/Zurich:20260502T220000
ORGANIZER:Kulturzentrum Presswerk AG
END:VEVENT
END:VCALENDAR
