BEGIN:VCALENDAR
VERSION:2.0
PRODID:-//Sabre//Sabre VObject 4.5.8//EN
CALSCALE:GREGORIAN
BEGIN:VEVENT
UID:sabre-vobject-38f04425-f1de-4586-b0b2-55797ec7a612
DTSTAMP:20260421T120248Z
SUMMARY:Toccatawil
DESCRIPTION:Erstes Orgelkonzert mit Martin Welzel nach der abgeschlossenen 
 Revision der grossen Orgel durch Mathis Orgelbau.
LOCATION:Katholische Stadtkirche St. Nikolaus\, Kirchgasse 27\, 9500 Wil
DTSTART;TZID=Europe/Zurich:20260531T160000
DTEND;TZID=Europe/Zurich:20260531T173000
ORGANIZER:toccatawil
END:VEVENT
END:VCALENDAR
