BEGIN:VCALENDAR
VERSION:2.0
PRODID:-//Sabre//Sabre VObject 4.5.8//EN
CALSCALE:GREGORIAN
BEGIN:VEVENT
UID:sabre-vobject-8a657022-b03b-4c5d-b573-06959f59d355
DTSTAMP:20260420T001926Z
SUMMARY:Hirschfeld – Unbekannter Bekannter
DESCRIPTION:Kurt Hirschfelds Biographie ist die exemplarische Geschichte ei
 nes engagierten Menschen des 20. Jahrhunderts. Geboren in einer religiöse
 n Familie deutscher Juden\, begann er sich schon in jungen Jahren mit Lite
 ratur zu beschäftigen. Anfang der dreissiger Jahre machte er sich in Deut
 schland einen Namen als Dramaturg. Als Kommunist und Jude\, musste er vor 
 den Nazis flüchten\, wurde aber in der Schweiz zurückgewiesen.\\n\\nEr g
 ing nach Moskau\, wo er bei der Theaterlegende Meyerhold arbeiten konnte\,
  und für die Neue Zürcher Zeitung Theaterkritiken schrieb. Als Stalin be
 gann Hirschfelds Kameraden zu verfolgen und ermorden\, flüchtete er aus d
 er Sowjetunion. Mit viel Glück kam er wieder nach Zürich\, wo er mit Unt
 erstützung seiner mutigen Zürcher Freunde\, Dramaturg am Schauspielhaus 
 wurde.\\n\\nEr holte viele deutsche Talente ans Theater\, wie z.B. den Aut
 oren Bertolt Brecht oder die Schauspielerin Therese Giehse. Er verbündete
  sich mit konservativen Schweizer Kulturschaffenden\, welche gegen die Naz
 is waren. So wurde das Schauspielhaus zum Zentrum des kulturellen Widersta
 nds gegen den Faschismus in Europa. Auf diesem Renommee baute Hirschfeld n
 ach dem Krieg\, das Schauspielhaus zu einem der führenden deutschsprachig
 en Theater auf. Und mit den ersten Stücken von Frisch und Dürrenmatt und
  jungen amerikanischen Autoren etablierte er den Kanon des modernen Theate
 rs in Europa.\\n\\nDoch nach seinem Tod 1964 ging sein Name vergessen. Wed
 er gibt es einen Film\, noch ein Buch über ihn. Ob seine jüdische Herkun
 ft in dieser Rezeption eine Rolle spielt? Sicher ist\, dass die Rolle der 
 Schweiz während der Nazi-Zeit noch nicht fertig erzählt worden ist.\\n\\
 nCAST &amp\; CREW\\nDirector: Samir\, Stina Werenfels\\nProducer: Samir\, 
 Levin Vieth\\nScript: Samir\\nCamera: Ian Oggenfuss\, Natascha Vavrina\\nE
 diting: Olivia Frey\, Roman Stocker\, Lars Wicki\n\\nDuration: 90\\nProduk
 tion: Switzerland\, 2026\\nDistribution: Dschoint Ventschr Distribution
LOCATION:Roxy\, Salmsacherstrasse 1\, 8590 Romanshorn
DTSTART;TZID=Europe/Zurich:20260422T193000
DTEND;TZID=Europe/Zurich:20260422T213000
ORGANIZER:Roxy
END:VEVENT
END:VCALENDAR
