BEGIN:VCALENDAR
VERSION:2.0
PRODID:-//Sabre//Sabre VObject 4.5.8//EN
CALSCALE:GREGORIAN
BEGIN:VEVENT
UID:sabre-vobject-404568a2-e20d-4093-aea6-2aa7c22af5bf
DTSTAMP:20260420T000324Z
SUMMARY:Der Super Mario Galaxy Film
DESCRIPTION:DER SUPER MARIO GALAXY FILM ist der neue Animationsfilm\, basie
 rend auf der Welt von „Super Mario Bros.“ Das erste Mario-Abenteuer De
 r Super Mario Bros. Film startete 2023 in den Kinos\, spielte weltweit meh
 r als 1\,3 Milliarden Dollar ein und begeisterte in Deutschland mehr als 5
  Millionen Kinozuschauer.\\n\\nCAST &amp\; CREW\\nDirector: Aaron Horvath\
 , Michael Jelenic\\nProducer: Christopher Meledandri\, Shigeru Miyamoto\\n
 Cast: Chris Pratt\, Anya Taylor-Joy\, Jack Black\, Keegan-Michael Key\, Ch
 arlie Day\, Kevin Michael Richardson\\n\\nDuration: 98\\nProduktion: Japan
  / USA\, 2026\\nDistribution: Universal Pictures International Switzerland
LOCATION:Roxy\, Salmsacherstrasse 1\, 8590 Romanshorn
DTSTART;TZID=Europe/Zurich:20260419T140000
DTEND;TZID=Europe/Zurich:20260419T140000
ORGANIZER:Roxy
END:VEVENT
END:VCALENDAR
