BEGIN:VCALENDAR
VERSION:2.0
PRODID:-//Sabre//Sabre VObject 4.5.8//EN
CALSCALE:GREGORIAN
BEGIN:VEVENT
UID:sabre-vobject-90ee0ee0-2b4b-4112-8bc6-2f4717ab5921
DTSTAMP:20260420T002352Z
SUMMARY:DJ Ahmet
DESCRIPTION:Der 15-jährige Ahmet lebt in einem abgelegenen Dorf mit seinem
  Vater und dem kleinen Bruder. Als er eines Nachts auf eine illegale Techn
 o-Party im Wald stösst\, wird sein Leben plötzlich farbig. Er ist faszin
 iert von der Musik sowie von der gleichaltrigen\, rebellischen Aya. Gemein
 sam planen sie einen gewagten Auftritt beim Dorffest\, der Aya vor einer a
 rrangierten Ehe bewahren soll. Zwischen Schafmist\, Traktor-Boxen und Dorf
 geschwätz entfaltet sich eine charmante Geschichte über Tradition\, erst
 e Liebe und die befreiende Kraft der Musik.\\n\\nCAST &amp\; CREW\\nDirect
 or: Georgi M. Unkovski\\nProducer: Katarina Prpic\, Ivana Shekutkoska\, Iv
 an Unkovski\\nCast: Arif Jakup\, Agush Agushev\, Aksel Mehmet\, Dora Akan 
 Zlatanova\, Selpin Kerim\, Atila Klince\\n\\nDuration: 99\\nProduktion: No
 rth Macedonia / Czech Republic / Serbia / Croatia\, 2025\\nDistribution: t
 rigon-film
LOCATION:Roxy\, Salmsacherstrasse 1\, 8590 Romanshorn
DTSTART;TZID=Europe/Zurich:20260421T193000
DTEND;TZID=Europe/Zurich:20260421T213000
ORGANIZER:Roxy
END:VEVENT
END:VCALENDAR
