BEGIN:VCALENDAR
VERSION:2.0
PRODID:-//Sabre//Sabre VObject 4.5.8//EN
CALSCALE:GREGORIAN
BEGIN:VEVENT
UID:sabre-vobject-64d061e3-403c-4de0-9f05-b2f2069dd190
DTSTAMP:20260420T002116Z
SUMMARY:Vie privée
DESCRIPTION:von Rebecca Zlotowski\nFrankreich 2025\, 105 Min\, F/d\, ab etw
 a 16\nLilian\, eine Psychiaterin aus New York\, verliert in Paris nach dem
  Suizid einer Patientin den Halt – beruflich wie seelisch. Was wusste si
 e wirklich über diese Frau nach all den Jahren der Therapie? Durch Selbst
 hypnose taucht Lilian in die Welt der Verstorbenen ein und entdeckt dabei 
 eine verstörende Verbindung\, die eng mit ihrem eigenen Leben verwoben is
 t.\nAls Jugendliche besuchte Jodie Forster in Los Angeles ein zweisprachig
 es Gymnasium und spielte bereits 1977 (als sie mit 15 Jahren für den Osca
 r als beste Nebendarstellerin in “Taxi Driver” nominiert wurde) in ein
 em französischen Film die Hauptrolle (“Moi\, fleur bleue”). Unter der
  Regie von Claude Chabrol spielte sie 1984 noch einmal eine Hauptrolle auf
  Französisch (“Le sang des autres”) nach dem gleichnamigen Roman von 
 Simone de Beauvoir.
LOCATION:Cinema Luna\, Lindenstrasse 10\, 8500 Frauenfeld
DTSTART;TZID=Europe/Zurich:20260427T200000
DTEND;TZID=Europe/Zurich:20260427T200000
ORGANIZER:Cinema Luna
END:VEVENT
END:VCALENDAR
