BEGIN:VCALENDAR
VERSION:2.0
PRODID:-//Sabre//Sabre VObject 4.5.8//EN
CALSCALE:GREGORIAN
BEGIN:VEVENT
UID:sabre-vobject-f5ed60d0-46b6-45dc-9b88-476c9ddf5349
DTSTAMP:20260420T002208Z
SUMMARY:Romeria
DESCRIPTION:von Carla Simon\nSpanien 2025\, 114 Min\, Spa/d\, ab etwa 14\nM
 arina\, die als Kind adoptiert wurde\, muss einen Teil ihrer biologischen 
 Familie wiederfinden\, um ein standesamtliches Dokument für ihr Studium z
 u erhalten. Geleitet vom Tagebuch ihrer Mutter reist sie an die spanische 
 Atlantikküste und trifft dort auf ihre Familie väterlicherseits\, die si
 e nicht kennt. Marinas Ankunft lässt die Vergangenheit wieder erwachen. I
 ndem sie die Erinnerung an ihre Eltern wieder aufleben lässt\, entdeckt s
 ie die Geheimnisse ihrer Familie\, das Unausgesprochene und die verborgene
 n Geschichten.\nDie spanische Filmemacherin Carla Simon überraschte 2022 
 mit ihrem Spielfilm «Alcarràs» über eine katalanische Familie von Pfir
 sichbauern.
LOCATION:Cinema Luna\, Lindenstrasse 10\, 8500 Frauenfeld
DTSTART;TZID=Europe/Zurich:20260426T193000
DTEND;TZID=Europe/Zurich:20260426T193000
ORGANIZER:Cinema Luna
END:VEVENT
END:VCALENDAR
