BEGIN:VCALENDAR
VERSION:2.0
PRODID:-//Sabre//Sabre VObject 4.5.8//EN
CALSCALE:GREGORIAN
BEGIN:VEVENT
UID:sabre-vobject-fd1943e5-5f03-4805-93ce-b421eff2ea76
DTSTAMP:20260424T143129Z
SUMMARY:Führungen
DESCRIPTION:Ein ungewohnter Blick hinter die Kulissen des neu sanierten The
 aters und auf Bühnenbilder aus der Auftrittsperspektive – Interessierte
  erleben\, wie die Theaterwelt hinter dem Vorhang aussieht\, wenn die Sche
 inwerfer aus sind. In dieser Saison gibt es einmal pro Monat die Möglichk
 eit\, an einer dieser aussergewöhnlichen Führungen teilzunehmen.\\n\\nAb
 onnent:innen können kostenlos an einer öffentlichen Führung teilnehmen.
LOCATION:Theater Winterthur\, Theaterstrasse 6\, 8401 Winterthur
DTSTART;TZID=Europe/Zurich:20260513T170000
DTEND;TZID=Europe/Zurich:20260513T180000
ORGANIZER:Theater Winterthur
END:VEVENT
END:VCALENDAR
