BEGIN:VCALENDAR
VERSION:2.0
PRODID:-//Sabre//Sabre VObject 4.5.8//EN
CALSCALE:GREGORIAN
BEGIN:VEVENT
UID:sabre-vobject-bd742485-eff1-4ace-948e-4955dbd7b700
DTSTAMP:20260421T123527Z
SUMMARY:Mozart Litaniae Lauretanae KV 195 | Haydn Missa Sancti Joannis de D
 eo
DESCRIPTION:Der Stefanschor Kreuzlingen lädt herzlich zum Sommerkonzert 20
 26 ein. Zu hören gibt es zwei wundervolle Werke der Wiener Klassik: Wolfg
 ang Amadeus Mozarts „Litaniae Lauretanae“ KV 195 und Joseph Haydns „
 Missa Sancti Joannis de Deo“.\\n\\nMozarts Lauretanische Litanei gehört
  zu den reizvollsten geistlichen Werken seiner Salzburger Jahre. Sie verto
 nt die traditionelle marianische Anrufungskette\, in der sich flehentliche
 r Bittgesang mit lobpreisender Verehrung der Gottesmutter Maria verbindet.
  Trotz seines jungen Alters zeigt Mozart hier bereits beeindruckende Reife
 : klare Strukturen\, innige Melodik und abwechslungsreiche Satzcharaktere.
  Vom feierlichen Beginn bis zum strahlenden Schluss entfaltet das Werk ein
 e lebendige spirituelle Ausdruckskraft\, die Chor und Solisten gleicherma
 ßen fordert und inspiriert.\\n\\nHaydns „Missa Sancti Joannis de Deo
 “ bildet dazu einen warmen\, besinnlichen Gegenpol. Mit ihrer lichtdurch
 fluteten Schlichtheit und dem berühmten Benedictus für Soli und Orgel st
 rahlt sie eine stille\, tröstliche Schönheit aus\, die bis heute berühr
 t.\\n\\nGemeinsam eröffnen diese beiden Werke ein stilistisch abwechslung
 sreiches\, musikalisch erfüllendes Projekt – eine wunderbare Gelegenhei
 t\, Klangfreude\, Präzision und Ausdruck in gemeinschaftlichem Singen zu 
 verbinden. Das Orchester mit Streichern\, Fagott\, Oboen\, Posaunen und H
 örnern wird zum beeindruckenden Klang in der Kirche St. Stefan beitragen.
 \\n\\nTraditionell gibt es bei den Konzerten des Stefanschores immer auch 
 einen Teil\, in dem die Zuhörerinnen und Zuhörer eingeladen sind\, bei b
 ekannten und passenden Liedern\, zusammen mit dem Chor und dem Orchester\,
  mit ihrem Gesang mit einzustimmen. Ausserdem hält die tolle Kirche mit i
 hrem Klang noch weitere musikalische Überraschungen bereit und es gibt th
 ematische Impulse von Dirigent Nicolas Borner und Pfarrer Edwin Stier.\\n\
 \nTeile der Werke gibt es auch im feierlichen Pastoralraumgottesdienst zum
  Herz-Jesu-Fest am selber Tag um 09:45 Uhr in St. Stefan zu hören.\\n\\nS
 opran: Adriane Kienzler\\nAlt: Marieke Potts\\nTenor: Aeneas Borner\\nBass
 : Ulf Friederichs\\n\\nDirigent: Kirchenmusiker Nicolas Borner
LOCATION:Röm.-kath. Kirche St.Stefan\, Bernrainstrasse 10\, 8280 Kreuzling
 en
DTSTART;TZID=Europe/Zurich:20260614T113000
DTEND;TZID=Europe/Zurich:20260614T113000
ORGANIZER:Katholische Kirchgemeinde Kreuzlingen
END:VEVENT
END:VCALENDAR
