BEGIN:VCALENDAR
VERSION:2.0
PRODID:-//Sabre//Sabre VObject 4.5.8//EN
CALSCALE:GREGORIAN
BEGIN:VEVENT
UID:sabre-vobject-0ed35982-6b81-40fb-a947-0a17e76efd59
DTSTAMP:20260421T144632Z
SUMMARY:Das Geheimnis des roten Apfels
DESCRIPTION:Die modern eingerichtete Mosterei bietet die Gelegenheit\, das 
 Handwerk der Saftherstellung hautnah zu erleben. Während einer rund 45-mi
 nütigen Führung wird der gesamte Weg vom Apfel bis zum fertigen Produkt 
 aufgezeigt. Dabei erhalten Interessierte einen direkten Blick hinter die K
 ulissen der Produktion und erfahren Wissenswertes über das Geheimnis des 
 roten Redlove-Apfels.\\n\n\\n\nIm Anschluss an den Rundgang findet eine De
 gustation verschiedener Most- und Ciderspezialitäten statt. Diese bestech
 en durch ihr rotes Fruchtfleisch und ein besonderes Aroma. Auf Wunsch wird
  dazu ein passender kleiner Imbiss serviert\, welcher die Geschmacksprofil
 e der Getränke ergänzt.\\n\n\\n\nOb als Familie oder Gruppe - dieses Erl
 ebnis ermöglicht einen authentischen Einblick in die Thurgauer Mosttradit
 ion und richtet sich an alle\, die das Besondere aus der Region suchen.Die
  Veranstaltung findet bei jeder Witterung statt.
LOCATION:Mosteria Bussinger\, Im Letten 14\, 8536 Hüttwilen
DTSTART;TZID=Europe/Zurich:20260523T140000
DTEND;TZID=Europe/Zurich:20260523T153000
ORGANIZER:Mosterei Bussinger GmbH
END:VEVENT
END:VCALENDAR
