BEGIN:VCALENDAR
VERSION:2.0
PRODID:-//Sabre//Sabre VObject 4.5.8//EN
CALSCALE:GREGORIAN
BEGIN:VEVENT
UID:sabre-vobject-d50012a9-698e-4c2f-af61-a859f7faaa0b
DTSTAMP:20260419T145341Z
SUMMARY:NOS 2026 | Nordostschweizerische Schwingfest
DESCRIPTION:Das Nordostschweizer Schwingfest (NOS) bringt rund 20’000 Fan
 s zusammen\, die hautnah miterleben\, wie sich die besten Schwinger der Sc
 hweiz in spannenden Duellen messen.\nBereits am Vortag\, dem 27. Juni\, ze
 igen die Nachwuchstalente beim Nordostschweizer Nachwuchsschwingfest ihr K
 önnen. Eingebettet zwischen Bodensee und Eichenwald\, bietet Güttingen d
 ie perfekte Kulisse für dieses Event\, das Sport\, Tradition und Gemeinsc
 haft in den Mittelpunkt stellt.
LOCATION:Festareal\, NOS Güttingen\, 8594 Güttingen
DTSTART;TZID=Europe/Zurich:20260628T000000
DTEND;TZID=Europe/Zurich:20260628T000000
ORGANIZER:NOS 2026 Güttingen
END:VEVENT
END:VCALENDAR
